BEGIN:VCALENDAR
VERSION:2.0
PRODID:-//Great Education Colorado - ECPv6.15.20//NONSGML v1.0//EN
CALSCALE:GREGORIAN
METHOD:PUBLISH
X-WR-CALNAME:Great Education Colorado
X-ORIGINAL-URL:https://www.greateducation.org
X-WR-CALDESC:Events for Great Education Colorado
REFRESH-INTERVAL;VALUE=DURATION:PT1H
X-Robots-Tag:noindex
X-PUBLISHED-TTL:PT1H
BEGIN:VTIMEZONE
TZID:America/Denver
BEGIN:DAYLIGHT
TZOFFSETFROM:-0700
TZOFFSETTO:-0600
TZNAME:MDT
DTSTART:20250309T090000
END:DAYLIGHT
BEGIN:STANDARD
TZOFFSETFROM:-0600
TZOFFSETTO:-0700
TZNAME:MST
DTSTART:20251102T080000
END:STANDARD
BEGIN:DAYLIGHT
TZOFFSETFROM:-0700
TZOFFSETTO:-0600
TZNAME:MDT
DTSTART:20260308T090000
END:DAYLIGHT
BEGIN:STANDARD
TZOFFSETFROM:-0600
TZOFFSETTO:-0700
TZNAME:MST
DTSTART:20261101T080000
END:STANDARD
BEGIN:DAYLIGHT
TZOFFSETFROM:-0700
TZOFFSETTO:-0600
TZNAME:MDT
DTSTART:20270314T090000
END:DAYLIGHT
BEGIN:STANDARD
TZOFFSETFROM:-0600
TZOFFSETTO:-0700
TZNAME:MST
DTSTART:20271107T080000
END:STANDARD
END:VTIMEZONE
BEGIN:VEVENT
DTSTART;TZID=America/Denver:20260421T080000
DTEND;TZID=America/Denver:20260421T170000
DTSTAMP:20260419T123905
CREATED:20260217T163231Z
LAST-MODIFIED:20260217T163231Z
UID:10000218-1776758400-1776790800@www.greateducation.org
SUMMARY:ESWN MONTHLY MEETING
DESCRIPTION:
URL:https://www.greateducation.org/event/eswn-monthly-meeting/2026-04-21/
CATEGORIES:ESWN
ATTACH;FMTTYPE=image/png:https://www.greateducation.org/wp-content/uploads/2026/02/Screenshot-2026-02-17-at-7.36.36-AM.png
END:VEVENT
BEGIN:VEVENT
DTSTART;TZID=America/Denver:20260519T080000
DTEND;TZID=America/Denver:20260519T170000
DTSTAMP:20260419T123905
CREATED:20260217T163231Z
LAST-MODIFIED:20260217T163231Z
UID:10000219-1779177600-1779210000@www.greateducation.org
SUMMARY:ESWN MONTHLY MEETING
DESCRIPTION:
URL:https://www.greateducation.org/event/eswn-monthly-meeting/2026-05-19/
CATEGORIES:ESWN
ATTACH;FMTTYPE=image/png:https://www.greateducation.org/wp-content/uploads/2026/02/Screenshot-2026-02-17-at-7.36.36-AM.png
END:VEVENT
BEGIN:VEVENT
DTSTART;TZID=America/Denver:20260616T080000
DTEND;TZID=America/Denver:20260616T170000
DTSTAMP:20260419T123905
CREATED:20260217T163231Z
LAST-MODIFIED:20260217T163231Z
UID:10000220-1781596800-1781629200@www.greateducation.org
SUMMARY:ESWN MONTHLY MEETING
DESCRIPTION:
URL:https://www.greateducation.org/event/eswn-monthly-meeting/2026-06-16/
CATEGORIES:ESWN
ATTACH;FMTTYPE=image/png:https://www.greateducation.org/wp-content/uploads/2026/02/Screenshot-2026-02-17-at-7.36.36-AM.png
END:VEVENT
BEGIN:VEVENT
DTSTART;TZID=America/Denver:20260721T080000
DTEND;TZID=America/Denver:20260721T170000
DTSTAMP:20260419T123905
CREATED:20260217T163231Z
LAST-MODIFIED:20260217T163231Z
UID:10000221-1784620800-1784653200@www.greateducation.org
SUMMARY:ESWN MONTHLY MEETING
DESCRIPTION:
URL:https://www.greateducation.org/event/eswn-monthly-meeting/2026-07-21/
CATEGORIES:ESWN
ATTACH;FMTTYPE=image/png:https://www.greateducation.org/wp-content/uploads/2026/02/Screenshot-2026-02-17-at-7.36.36-AM.png
END:VEVENT
BEGIN:VEVENT
DTSTART;TZID=America/Denver:20260818T080000
DTEND;TZID=America/Denver:20260818T170000
DTSTAMP:20260419T123905
CREATED:20260217T163231Z
LAST-MODIFIED:20260217T163231Z
UID:10000222-1787040000-1787072400@www.greateducation.org
SUMMARY:ESWN MONTHLY MEETING
DESCRIPTION:
URL:https://www.greateducation.org/event/eswn-monthly-meeting/2026-08-18/
CATEGORIES:ESWN
ATTACH;FMTTYPE=image/png:https://www.greateducation.org/wp-content/uploads/2026/02/Screenshot-2026-02-17-at-7.36.36-AM.png
END:VEVENT
BEGIN:VEVENT
DTSTART;TZID=America/Denver:20260915T080000
DTEND;TZID=America/Denver:20260915T170000
DTSTAMP:20260419T123905
CREATED:20260217T163231Z
LAST-MODIFIED:20260217T163231Z
UID:10000223-1789459200-1789491600@www.greateducation.org
SUMMARY:ESWN MONTHLY MEETING
DESCRIPTION:
URL:https://www.greateducation.org/event/eswn-monthly-meeting/2026-09-15/
CATEGORIES:ESWN
ATTACH;FMTTYPE=image/png:https://www.greateducation.org/wp-content/uploads/2026/02/Screenshot-2026-02-17-at-7.36.36-AM.png
END:VEVENT
BEGIN:VEVENT
DTSTART;TZID=America/Denver:20261020T080000
DTEND;TZID=America/Denver:20261020T170000
DTSTAMP:20260419T123905
CREATED:20260217T163231Z
LAST-MODIFIED:20260217T163231Z
UID:10000224-1792483200-1792515600@www.greateducation.org
SUMMARY:ESWN MONTHLY MEETING
DESCRIPTION:
URL:https://www.greateducation.org/event/eswn-monthly-meeting/2026-10-20/
CATEGORIES:ESWN
ATTACH;FMTTYPE=image/png:https://www.greateducation.org/wp-content/uploads/2026/02/Screenshot-2026-02-17-at-7.36.36-AM.png
END:VEVENT
BEGIN:VEVENT
DTSTART;TZID=America/Denver:20261117T080000
DTEND;TZID=America/Denver:20261117T170000
DTSTAMP:20260419T123905
CREATED:20260217T163231Z
LAST-MODIFIED:20260217T163231Z
UID:10000225-1794902400-1794934800@www.greateducation.org
SUMMARY:ESWN MONTHLY MEETING
DESCRIPTION:
URL:https://www.greateducation.org/event/eswn-monthly-meeting/2026-11-17/
CATEGORIES:ESWN
ATTACH;FMTTYPE=image/png:https://www.greateducation.org/wp-content/uploads/2026/02/Screenshot-2026-02-17-at-7.36.36-AM.png
END:VEVENT
END:VCALENDAR