BEGIN:VCALENDAR
VERSION:2.0
PRODID:-//Great Education Colorado - ECPv6.15.20//NONSGML v1.0//EN
CALSCALE:GREGORIAN
METHOD:PUBLISH
X-WR-CALNAME:Great Education Colorado
X-ORIGINAL-URL:https://www.greateducation.org
X-WR-CALDESC:Events for Great Education Colorado
REFRESH-INTERVAL;VALUE=DURATION:PT1H
X-Robots-Tag:noindex
X-PUBLISHED-TTL:PT1H
BEGIN:VTIMEZONE
TZID:America/Denver
BEGIN:DAYLIGHT
TZOFFSETFROM:-0700
TZOFFSETTO:-0600
TZNAME:MDT
DTSTART:20250309T090000
END:DAYLIGHT
BEGIN:STANDARD
TZOFFSETFROM:-0600
TZOFFSETTO:-0700
TZNAME:MST
DTSTART:20251102T080000
END:STANDARD
BEGIN:DAYLIGHT
TZOFFSETFROM:-0700
TZOFFSETTO:-0600
TZNAME:MDT
DTSTART:20260308T090000
END:DAYLIGHT
BEGIN:STANDARD
TZOFFSETFROM:-0600
TZOFFSETTO:-0700
TZNAME:MST
DTSTART:20261101T080000
END:STANDARD
BEGIN:DAYLIGHT
TZOFFSETFROM:-0700
TZOFFSETTO:-0600
TZNAME:MDT
DTSTART:20270314T090000
END:DAYLIGHT
BEGIN:STANDARD
TZOFFSETFROM:-0600
TZOFFSETTO:-0700
TZNAME:MST
DTSTART:20271107T080000
END:STANDARD
END:VTIMEZONE
BEGIN:VEVENT
DTSTART;TZID=America/Denver:20260421T130000
DTEND;TZID=America/Denver:20260421T140000
DTSTAMP:20260419T123925
CREATED:20260217T153813Z
LAST-MODIFIED:20260217T153823Z
UID:10000034-1776776400-1776780000@www.greateducation.org
SUMMARY:Every Student Welcome Network Office Hours
DESCRIPTION:Virtual Every Student Welcome Network website support office hours \nLearn more about ESWN and how to use our online resource hub
URL:https://www.greateducation.org/event/every-student-welcome-network/2026-04-21/
CATEGORIES:ESWN
ATTACH;FMTTYPE=image/png:https://www.greateducation.org/wp-content/uploads/2026/02/Screenshot-2026-02-17-at-7.36.36-AM.png
LOCATION:https://us02web.zoom.us/j/86055363497?pwd=IuhhRajFoXLXjGIcbNaeQ0gsYYH4BQ.1
END:VEVENT
BEGIN:VEVENT
DTSTART;TZID=America/Denver:20260423T130000
DTEND;TZID=America/Denver:20260423T140000
DTSTAMP:20260419T123925
CREATED:20260217T153813Z
LAST-MODIFIED:20260217T153823Z
UID:10000035-1776949200-1776952800@www.greateducation.org
SUMMARY:Every Student Welcome Network Office Hours
DESCRIPTION:Virtual Every Student Welcome Network website support office hours \nLearn more about ESWN and how to use our online resource hub
URL:https://www.greateducation.org/event/every-student-welcome-network/2026-04-23/
CATEGORIES:ESWN
ATTACH;FMTTYPE=image/png:https://www.greateducation.org/wp-content/uploads/2026/02/Screenshot-2026-02-17-at-7.36.36-AM.png
LOCATION:https://us02web.zoom.us/j/86055363497?pwd=IuhhRajFoXLXjGIcbNaeQ0gsYYH4BQ.1
END:VEVENT
BEGIN:VEVENT
DTSTART;TZID=America/Denver:20260428T130000
DTEND;TZID=America/Denver:20260428T140000
DTSTAMP:20260419T123925
CREATED:20260217T153813Z
LAST-MODIFIED:20260217T153823Z
UID:10000036-1777381200-1777384800@www.greateducation.org
SUMMARY:Every Student Welcome Network Office Hours
DESCRIPTION:Virtual Every Student Welcome Network website support office hours \nLearn more about ESWN and how to use our online resource hub
URL:https://www.greateducation.org/event/every-student-welcome-network/2026-04-28/
CATEGORIES:ESWN
ATTACH;FMTTYPE=image/png:https://www.greateducation.org/wp-content/uploads/2026/02/Screenshot-2026-02-17-at-7.36.36-AM.png
LOCATION:https://us02web.zoom.us/j/86055363497?pwd=IuhhRajFoXLXjGIcbNaeQ0gsYYH4BQ.1
END:VEVENT
BEGIN:VEVENT
DTSTART;TZID=America/Denver:20260430T130000
DTEND;TZID=America/Denver:20260430T140000
DTSTAMP:20260419T123925
CREATED:20260217T153813Z
LAST-MODIFIED:20260217T153823Z
UID:10000037-1777554000-1777557600@www.greateducation.org
SUMMARY:Every Student Welcome Network Office Hours
DESCRIPTION:Virtual Every Student Welcome Network website support office hours \nLearn more about ESWN and how to use our online resource hub
URL:https://www.greateducation.org/event/every-student-welcome-network/2026-04-30/
CATEGORIES:ESWN
ATTACH;FMTTYPE=image/png:https://www.greateducation.org/wp-content/uploads/2026/02/Screenshot-2026-02-17-at-7.36.36-AM.png
LOCATION:https://us02web.zoom.us/j/86055363497?pwd=IuhhRajFoXLXjGIcbNaeQ0gsYYH4BQ.1
END:VEVENT
BEGIN:VEVENT
DTSTART;TZID=America/Denver:20260505T130000
DTEND;TZID=America/Denver:20260505T140000
DTSTAMP:20260419T123925
CREATED:20260217T153813Z
LAST-MODIFIED:20260217T153823Z
UID:10000038-1777986000-1777989600@www.greateducation.org
SUMMARY:Every Student Welcome Network Office Hours
DESCRIPTION:Virtual Every Student Welcome Network website support office hours \nLearn more about ESWN and how to use our online resource hub
URL:https://www.greateducation.org/event/every-student-welcome-network/2026-05-05/
CATEGORIES:ESWN
ATTACH;FMTTYPE=image/png:https://www.greateducation.org/wp-content/uploads/2026/02/Screenshot-2026-02-17-at-7.36.36-AM.png
LOCATION:https://us02web.zoom.us/j/86055363497?pwd=IuhhRajFoXLXjGIcbNaeQ0gsYYH4BQ.1
END:VEVENT
BEGIN:VEVENT
DTSTART;TZID=America/Denver:20260507T130000
DTEND;TZID=America/Denver:20260507T140000
DTSTAMP:20260419T123925
CREATED:20260217T153813Z
LAST-MODIFIED:20260217T153823Z
UID:10000039-1778158800-1778162400@www.greateducation.org
SUMMARY:Every Student Welcome Network Office Hours
DESCRIPTION:Virtual Every Student Welcome Network website support office hours \nLearn more about ESWN and how to use our online resource hub
URL:https://www.greateducation.org/event/every-student-welcome-network/2026-05-07/
CATEGORIES:ESWN
ATTACH;FMTTYPE=image/png:https://www.greateducation.org/wp-content/uploads/2026/02/Screenshot-2026-02-17-at-7.36.36-AM.png
LOCATION:https://us02web.zoom.us/j/86055363497?pwd=IuhhRajFoXLXjGIcbNaeQ0gsYYH4BQ.1
END:VEVENT
BEGIN:VEVENT
DTSTART;TZID=America/Denver:20260512T130000
DTEND;TZID=America/Denver:20260512T140000
DTSTAMP:20260419T123925
CREATED:20260217T153813Z
LAST-MODIFIED:20260217T153823Z
UID:10000040-1778590800-1778594400@www.greateducation.org
SUMMARY:Every Student Welcome Network Office Hours
DESCRIPTION:Virtual Every Student Welcome Network website support office hours \nLearn more about ESWN and how to use our online resource hub
URL:https://www.greateducation.org/event/every-student-welcome-network/2026-05-12/
CATEGORIES:ESWN
ATTACH;FMTTYPE=image/png:https://www.greateducation.org/wp-content/uploads/2026/02/Screenshot-2026-02-17-at-7.36.36-AM.png
LOCATION:https://us02web.zoom.us/j/86055363497?pwd=IuhhRajFoXLXjGIcbNaeQ0gsYYH4BQ.1
END:VEVENT
BEGIN:VEVENT
DTSTART;TZID=America/Denver:20260514T130000
DTEND;TZID=America/Denver:20260514T140000
DTSTAMP:20260419T123925
CREATED:20260217T153813Z
LAST-MODIFIED:20260217T153823Z
UID:10000041-1778763600-1778767200@www.greateducation.org
SUMMARY:Every Student Welcome Network Office Hours
DESCRIPTION:Virtual Every Student Welcome Network website support office hours \nLearn more about ESWN and how to use our online resource hub
URL:https://www.greateducation.org/event/every-student-welcome-network/2026-05-14/
CATEGORIES:ESWN
ATTACH;FMTTYPE=image/png:https://www.greateducation.org/wp-content/uploads/2026/02/Screenshot-2026-02-17-at-7.36.36-AM.png
LOCATION:https://us02web.zoom.us/j/86055363497?pwd=IuhhRajFoXLXjGIcbNaeQ0gsYYH4BQ.1
END:VEVENT
BEGIN:VEVENT
DTSTART;TZID=America/Denver:20260519T130000
DTEND;TZID=America/Denver:20260519T140000
DTSTAMP:20260419T123925
CREATED:20260217T153813Z
LAST-MODIFIED:20260217T153823Z
UID:10000042-1779195600-1779199200@www.greateducation.org
SUMMARY:Every Student Welcome Network Office Hours
DESCRIPTION:Virtual Every Student Welcome Network website support office hours \nLearn more about ESWN and how to use our online resource hub
URL:https://www.greateducation.org/event/every-student-welcome-network/2026-05-19/
CATEGORIES:ESWN
ATTACH;FMTTYPE=image/png:https://www.greateducation.org/wp-content/uploads/2026/02/Screenshot-2026-02-17-at-7.36.36-AM.png
LOCATION:https://us02web.zoom.us/j/86055363497?pwd=IuhhRajFoXLXjGIcbNaeQ0gsYYH4BQ.1
END:VEVENT
BEGIN:VEVENT
DTSTART;TZID=America/Denver:20260521T130000
DTEND;TZID=America/Denver:20260521T140000
DTSTAMP:20260419T123925
CREATED:20260217T153813Z
LAST-MODIFIED:20260217T153823Z
UID:10000043-1779368400-1779372000@www.greateducation.org
SUMMARY:Every Student Welcome Network Office Hours
DESCRIPTION:Virtual Every Student Welcome Network website support office hours \nLearn more about ESWN and how to use our online resource hub
URL:https://www.greateducation.org/event/every-student-welcome-network/2026-05-21/
CATEGORIES:ESWN
ATTACH;FMTTYPE=image/png:https://www.greateducation.org/wp-content/uploads/2026/02/Screenshot-2026-02-17-at-7.36.36-AM.png
LOCATION:https://us02web.zoom.us/j/86055363497?pwd=IuhhRajFoXLXjGIcbNaeQ0gsYYH4BQ.1
END:VEVENT
BEGIN:VEVENT
DTSTART;TZID=America/Denver:20260526T130000
DTEND;TZID=America/Denver:20260526T140000
DTSTAMP:20260419T123925
CREATED:20260217T153813Z
LAST-MODIFIED:20260217T153823Z
UID:10000044-1779800400-1779804000@www.greateducation.org
SUMMARY:Every Student Welcome Network Office Hours
DESCRIPTION:Virtual Every Student Welcome Network website support office hours \nLearn more about ESWN and how to use our online resource hub
URL:https://www.greateducation.org/event/every-student-welcome-network/2026-05-26/
CATEGORIES:ESWN
ATTACH;FMTTYPE=image/png:https://www.greateducation.org/wp-content/uploads/2026/02/Screenshot-2026-02-17-at-7.36.36-AM.png
LOCATION:https://us02web.zoom.us/j/86055363497?pwd=IuhhRajFoXLXjGIcbNaeQ0gsYYH4BQ.1
END:VEVENT
BEGIN:VEVENT
DTSTART;TZID=America/Denver:20260528T130000
DTEND;TZID=America/Denver:20260528T140000
DTSTAMP:20260419T123925
CREATED:20260217T153813Z
LAST-MODIFIED:20260217T153823Z
UID:10000045-1779973200-1779976800@www.greateducation.org
SUMMARY:Every Student Welcome Network Office Hours
DESCRIPTION:Virtual Every Student Welcome Network website support office hours \nLearn more about ESWN and how to use our online resource hub
URL:https://www.greateducation.org/event/every-student-welcome-network/2026-05-28/
CATEGORIES:ESWN
ATTACH;FMTTYPE=image/png:https://www.greateducation.org/wp-content/uploads/2026/02/Screenshot-2026-02-17-at-7.36.36-AM.png
LOCATION:https://us02web.zoom.us/j/86055363497?pwd=IuhhRajFoXLXjGIcbNaeQ0gsYYH4BQ.1
END:VEVENT
BEGIN:VEVENT
DTSTART;TZID=America/Denver:20260602T130000
DTEND;TZID=America/Denver:20260602T140000
DTSTAMP:20260419T123925
CREATED:20260217T153813Z
LAST-MODIFIED:20260217T153823Z
UID:10000046-1780405200-1780408800@www.greateducation.org
SUMMARY:Every Student Welcome Network Office Hours
DESCRIPTION:Virtual Every Student Welcome Network website support office hours \nLearn more about ESWN and how to use our online resource hub
URL:https://www.greateducation.org/event/every-student-welcome-network/2026-06-02/
CATEGORIES:ESWN
ATTACH;FMTTYPE=image/png:https://www.greateducation.org/wp-content/uploads/2026/02/Screenshot-2026-02-17-at-7.36.36-AM.png
LOCATION:https://us02web.zoom.us/j/86055363497?pwd=IuhhRajFoXLXjGIcbNaeQ0gsYYH4BQ.1
END:VEVENT
BEGIN:VEVENT
DTSTART;TZID=America/Denver:20260604T130000
DTEND;TZID=America/Denver:20260604T140000
DTSTAMP:20260419T123925
CREATED:20260217T153813Z
LAST-MODIFIED:20260217T153823Z
UID:10000047-1780578000-1780581600@www.greateducation.org
SUMMARY:Every Student Welcome Network Office Hours
DESCRIPTION:Virtual Every Student Welcome Network website support office hours \nLearn more about ESWN and how to use our online resource hub
URL:https://www.greateducation.org/event/every-student-welcome-network/2026-06-04/
CATEGORIES:ESWN
ATTACH;FMTTYPE=image/png:https://www.greateducation.org/wp-content/uploads/2026/02/Screenshot-2026-02-17-at-7.36.36-AM.png
LOCATION:https://us02web.zoom.us/j/86055363497?pwd=IuhhRajFoXLXjGIcbNaeQ0gsYYH4BQ.1
END:VEVENT
BEGIN:VEVENT
DTSTART;TZID=America/Denver:20260609T130000
DTEND;TZID=America/Denver:20260609T140000
DTSTAMP:20260419T123925
CREATED:20260217T153813Z
LAST-MODIFIED:20260217T153823Z
UID:10000048-1781010000-1781013600@www.greateducation.org
SUMMARY:Every Student Welcome Network Office Hours
DESCRIPTION:Virtual Every Student Welcome Network website support office hours \nLearn more about ESWN and how to use our online resource hub
URL:https://www.greateducation.org/event/every-student-welcome-network/2026-06-09/
CATEGORIES:ESWN
ATTACH;FMTTYPE=image/png:https://www.greateducation.org/wp-content/uploads/2026/02/Screenshot-2026-02-17-at-7.36.36-AM.png
LOCATION:https://us02web.zoom.us/j/86055363497?pwd=IuhhRajFoXLXjGIcbNaeQ0gsYYH4BQ.1
END:VEVENT
BEGIN:VEVENT
DTSTART;TZID=America/Denver:20260611T130000
DTEND;TZID=America/Denver:20260611T140000
DTSTAMP:20260419T123925
CREATED:20260217T153813Z
LAST-MODIFIED:20260217T153823Z
UID:10000049-1781182800-1781186400@www.greateducation.org
SUMMARY:Every Student Welcome Network Office Hours
DESCRIPTION:Virtual Every Student Welcome Network website support office hours \nLearn more about ESWN and how to use our online resource hub
URL:https://www.greateducation.org/event/every-student-welcome-network/2026-06-11/
CATEGORIES:ESWN
ATTACH;FMTTYPE=image/png:https://www.greateducation.org/wp-content/uploads/2026/02/Screenshot-2026-02-17-at-7.36.36-AM.png
LOCATION:https://us02web.zoom.us/j/86055363497?pwd=IuhhRajFoXLXjGIcbNaeQ0gsYYH4BQ.1
END:VEVENT
BEGIN:VEVENT
DTSTART;TZID=America/Denver:20260616T130000
DTEND;TZID=America/Denver:20260616T140000
DTSTAMP:20260419T123925
CREATED:20260217T153813Z
LAST-MODIFIED:20260217T153823Z
UID:10000050-1781614800-1781618400@www.greateducation.org
SUMMARY:Every Student Welcome Network Office Hours
DESCRIPTION:Virtual Every Student Welcome Network website support office hours \nLearn more about ESWN and how to use our online resource hub
URL:https://www.greateducation.org/event/every-student-welcome-network/2026-06-16/
CATEGORIES:ESWN
ATTACH;FMTTYPE=image/png:https://www.greateducation.org/wp-content/uploads/2026/02/Screenshot-2026-02-17-at-7.36.36-AM.png
LOCATION:https://us02web.zoom.us/j/86055363497?pwd=IuhhRajFoXLXjGIcbNaeQ0gsYYH4BQ.1
END:VEVENT
BEGIN:VEVENT
DTSTART;TZID=America/Denver:20260618T130000
DTEND;TZID=America/Denver:20260618T140000
DTSTAMP:20260419T123925
CREATED:20260217T153813Z
LAST-MODIFIED:20260217T153823Z
UID:10000051-1781787600-1781791200@www.greateducation.org
SUMMARY:Every Student Welcome Network Office Hours
DESCRIPTION:Virtual Every Student Welcome Network website support office hours \nLearn more about ESWN and how to use our online resource hub
URL:https://www.greateducation.org/event/every-student-welcome-network/2026-06-18/
CATEGORIES:ESWN
ATTACH;FMTTYPE=image/png:https://www.greateducation.org/wp-content/uploads/2026/02/Screenshot-2026-02-17-at-7.36.36-AM.png
LOCATION:https://us02web.zoom.us/j/86055363497?pwd=IuhhRajFoXLXjGIcbNaeQ0gsYYH4BQ.1
END:VEVENT
BEGIN:VEVENT
DTSTART;TZID=America/Denver:20260623T130000
DTEND;TZID=America/Denver:20260623T140000
DTSTAMP:20260419T123925
CREATED:20260217T153813Z
LAST-MODIFIED:20260217T153823Z
UID:10000052-1782219600-1782223200@www.greateducation.org
SUMMARY:Every Student Welcome Network Office Hours
DESCRIPTION:Virtual Every Student Welcome Network website support office hours \nLearn more about ESWN and how to use our online resource hub
URL:https://www.greateducation.org/event/every-student-welcome-network/2026-06-23/
CATEGORIES:ESWN
ATTACH;FMTTYPE=image/png:https://www.greateducation.org/wp-content/uploads/2026/02/Screenshot-2026-02-17-at-7.36.36-AM.png
LOCATION:https://us02web.zoom.us/j/86055363497?pwd=IuhhRajFoXLXjGIcbNaeQ0gsYYH4BQ.1
END:VEVENT
BEGIN:VEVENT
DTSTART;TZID=America/Denver:20260625T130000
DTEND;TZID=America/Denver:20260625T140000
DTSTAMP:20260419T123925
CREATED:20260217T153813Z
LAST-MODIFIED:20260217T153823Z
UID:10000053-1782392400-1782396000@www.greateducation.org
SUMMARY:Every Student Welcome Network Office Hours
DESCRIPTION:Virtual Every Student Welcome Network website support office hours \nLearn more about ESWN and how to use our online resource hub
URL:https://www.greateducation.org/event/every-student-welcome-network/2026-06-25/
CATEGORIES:ESWN
ATTACH;FMTTYPE=image/png:https://www.greateducation.org/wp-content/uploads/2026/02/Screenshot-2026-02-17-at-7.36.36-AM.png
LOCATION:https://us02web.zoom.us/j/86055363497?pwd=IuhhRajFoXLXjGIcbNaeQ0gsYYH4BQ.1
END:VEVENT
BEGIN:VEVENT
DTSTART;TZID=America/Denver:20260630T130000
DTEND;TZID=America/Denver:20260630T140000
DTSTAMP:20260419T123925
CREATED:20260217T153813Z
LAST-MODIFIED:20260217T153823Z
UID:10000054-1782824400-1782828000@www.greateducation.org
SUMMARY:Every Student Welcome Network Office Hours
DESCRIPTION:Virtual Every Student Welcome Network website support office hours \nLearn more about ESWN and how to use our online resource hub
URL:https://www.greateducation.org/event/every-student-welcome-network/2026-06-30/
CATEGORIES:ESWN
ATTACH;FMTTYPE=image/png:https://www.greateducation.org/wp-content/uploads/2026/02/Screenshot-2026-02-17-at-7.36.36-AM.png
LOCATION:https://us02web.zoom.us/j/86055363497?pwd=IuhhRajFoXLXjGIcbNaeQ0gsYYH4BQ.1
END:VEVENT
BEGIN:VEVENT
DTSTART;TZID=America/Denver:20260702T130000
DTEND;TZID=America/Denver:20260702T140000
DTSTAMP:20260419T123925
CREATED:20260217T153813Z
LAST-MODIFIED:20260217T153823Z
UID:10000055-1782997200-1783000800@www.greateducation.org
SUMMARY:Every Student Welcome Network Office Hours
DESCRIPTION:Virtual Every Student Welcome Network website support office hours \nLearn more about ESWN and how to use our online resource hub
URL:https://www.greateducation.org/event/every-student-welcome-network/2026-07-02/
CATEGORIES:ESWN
ATTACH;FMTTYPE=image/png:https://www.greateducation.org/wp-content/uploads/2026/02/Screenshot-2026-02-17-at-7.36.36-AM.png
LOCATION:https://us02web.zoom.us/j/86055363497?pwd=IuhhRajFoXLXjGIcbNaeQ0gsYYH4BQ.1
END:VEVENT
BEGIN:VEVENT
DTSTART;TZID=America/Denver:20260707T130000
DTEND;TZID=America/Denver:20260707T140000
DTSTAMP:20260419T123925
CREATED:20260217T153813Z
LAST-MODIFIED:20260217T153823Z
UID:10000056-1783429200-1783432800@www.greateducation.org
SUMMARY:Every Student Welcome Network Office Hours
DESCRIPTION:Virtual Every Student Welcome Network website support office hours \nLearn more about ESWN and how to use our online resource hub
URL:https://www.greateducation.org/event/every-student-welcome-network/2026-07-07/
CATEGORIES:ESWN
ATTACH;FMTTYPE=image/png:https://www.greateducation.org/wp-content/uploads/2026/02/Screenshot-2026-02-17-at-7.36.36-AM.png
LOCATION:https://us02web.zoom.us/j/86055363497?pwd=IuhhRajFoXLXjGIcbNaeQ0gsYYH4BQ.1
END:VEVENT
BEGIN:VEVENT
DTSTART;TZID=America/Denver:20260709T130000
DTEND;TZID=America/Denver:20260709T140000
DTSTAMP:20260419T123925
CREATED:20260217T153813Z
LAST-MODIFIED:20260217T153823Z
UID:10000057-1783602000-1783605600@www.greateducation.org
SUMMARY:Every Student Welcome Network Office Hours
DESCRIPTION:Virtual Every Student Welcome Network website support office hours \nLearn more about ESWN and how to use our online resource hub
URL:https://www.greateducation.org/event/every-student-welcome-network/2026-07-09/
CATEGORIES:ESWN
ATTACH;FMTTYPE=image/png:https://www.greateducation.org/wp-content/uploads/2026/02/Screenshot-2026-02-17-at-7.36.36-AM.png
LOCATION:https://us02web.zoom.us/j/86055363497?pwd=IuhhRajFoXLXjGIcbNaeQ0gsYYH4BQ.1
END:VEVENT
BEGIN:VEVENT
DTSTART;TZID=America/Denver:20260714T130000
DTEND;TZID=America/Denver:20260714T140000
DTSTAMP:20260419T123925
CREATED:20260217T153813Z
LAST-MODIFIED:20260217T153823Z
UID:10000058-1784034000-1784037600@www.greateducation.org
SUMMARY:Every Student Welcome Network Office Hours
DESCRIPTION:Virtual Every Student Welcome Network website support office hours \nLearn more about ESWN and how to use our online resource hub
URL:https://www.greateducation.org/event/every-student-welcome-network/2026-07-14/
CATEGORIES:ESWN
ATTACH;FMTTYPE=image/png:https://www.greateducation.org/wp-content/uploads/2026/02/Screenshot-2026-02-17-at-7.36.36-AM.png
LOCATION:https://us02web.zoom.us/j/86055363497?pwd=IuhhRajFoXLXjGIcbNaeQ0gsYYH4BQ.1
END:VEVENT
BEGIN:VEVENT
DTSTART;TZID=America/Denver:20260716T130000
DTEND;TZID=America/Denver:20260716T140000
DTSTAMP:20260419T123925
CREATED:20260217T153813Z
LAST-MODIFIED:20260217T153823Z
UID:10000059-1784206800-1784210400@www.greateducation.org
SUMMARY:Every Student Welcome Network Office Hours
DESCRIPTION:Virtual Every Student Welcome Network website support office hours \nLearn more about ESWN and how to use our online resource hub
URL:https://www.greateducation.org/event/every-student-welcome-network/2026-07-16/
CATEGORIES:ESWN
ATTACH;FMTTYPE=image/png:https://www.greateducation.org/wp-content/uploads/2026/02/Screenshot-2026-02-17-at-7.36.36-AM.png
LOCATION:https://us02web.zoom.us/j/86055363497?pwd=IuhhRajFoXLXjGIcbNaeQ0gsYYH4BQ.1
END:VEVENT
BEGIN:VEVENT
DTSTART;TZID=America/Denver:20260721T130000
DTEND;TZID=America/Denver:20260721T140000
DTSTAMP:20260419T123925
CREATED:20260217T153813Z
LAST-MODIFIED:20260217T153823Z
UID:10000060-1784638800-1784642400@www.greateducation.org
SUMMARY:Every Student Welcome Network Office Hours
DESCRIPTION:Virtual Every Student Welcome Network website support office hours \nLearn more about ESWN and how to use our online resource hub
URL:https://www.greateducation.org/event/every-student-welcome-network/2026-07-21/
CATEGORIES:ESWN
ATTACH;FMTTYPE=image/png:https://www.greateducation.org/wp-content/uploads/2026/02/Screenshot-2026-02-17-at-7.36.36-AM.png
LOCATION:https://us02web.zoom.us/j/86055363497?pwd=IuhhRajFoXLXjGIcbNaeQ0gsYYH4BQ.1
END:VEVENT
BEGIN:VEVENT
DTSTART;TZID=America/Denver:20260723T130000
DTEND;TZID=America/Denver:20260723T140000
DTSTAMP:20260419T123925
CREATED:20260217T153813Z
LAST-MODIFIED:20260217T153823Z
UID:10000061-1784811600-1784815200@www.greateducation.org
SUMMARY:Every Student Welcome Network Office Hours
DESCRIPTION:Virtual Every Student Welcome Network website support office hours \nLearn more about ESWN and how to use our online resource hub
URL:https://www.greateducation.org/event/every-student-welcome-network/2026-07-23/
CATEGORIES:ESWN
ATTACH;FMTTYPE=image/png:https://www.greateducation.org/wp-content/uploads/2026/02/Screenshot-2026-02-17-at-7.36.36-AM.png
LOCATION:https://us02web.zoom.us/j/86055363497?pwd=IuhhRajFoXLXjGIcbNaeQ0gsYYH4BQ.1
END:VEVENT
BEGIN:VEVENT
DTSTART;TZID=America/Denver:20260728T130000
DTEND;TZID=America/Denver:20260728T140000
DTSTAMP:20260419T123925
CREATED:20260217T153813Z
LAST-MODIFIED:20260217T153823Z
UID:10000062-1785243600-1785247200@www.greateducation.org
SUMMARY:Every Student Welcome Network Office Hours
DESCRIPTION:Virtual Every Student Welcome Network website support office hours \nLearn more about ESWN and how to use our online resource hub
URL:https://www.greateducation.org/event/every-student-welcome-network/2026-07-28/
CATEGORIES:ESWN
ATTACH;FMTTYPE=image/png:https://www.greateducation.org/wp-content/uploads/2026/02/Screenshot-2026-02-17-at-7.36.36-AM.png
LOCATION:https://us02web.zoom.us/j/86055363497?pwd=IuhhRajFoXLXjGIcbNaeQ0gsYYH4BQ.1
END:VEVENT
BEGIN:VEVENT
DTSTART;TZID=America/Denver:20260730T130000
DTEND;TZID=America/Denver:20260730T140000
DTSTAMP:20260419T123925
CREATED:20260217T153813Z
LAST-MODIFIED:20260217T153823Z
UID:10000063-1785416400-1785420000@www.greateducation.org
SUMMARY:Every Student Welcome Network Office Hours
DESCRIPTION:Virtual Every Student Welcome Network website support office hours \nLearn more about ESWN and how to use our online resource hub
URL:https://www.greateducation.org/event/every-student-welcome-network/2026-07-30/
CATEGORIES:ESWN
ATTACH;FMTTYPE=image/png:https://www.greateducation.org/wp-content/uploads/2026/02/Screenshot-2026-02-17-at-7.36.36-AM.png
LOCATION:https://us02web.zoom.us/j/86055363497?pwd=IuhhRajFoXLXjGIcbNaeQ0gsYYH4BQ.1
END:VEVENT
END:VCALENDAR