BEGIN:VCALENDAR
VERSION:2.0
PRODID:-//Great Education Colorado - ECPv6.15.20//NONSGML v1.0//EN
CALSCALE:GREGORIAN
METHOD:PUBLISH
X-ORIGINAL-URL:https://www.greateducation.org
X-WR-CALDESC:Events for Great Education Colorado
REFRESH-INTERVAL;VALUE=DURATION:PT1H
X-Robots-Tag:noindex
X-PUBLISHED-TTL:PT1H
BEGIN:VTIMEZONE
TZID:America/Denver
BEGIN:DAYLIGHT
TZOFFSETFROM:-0700
TZOFFSETTO:-0600
TZNAME:MDT
DTSTART:20240310T090000
END:DAYLIGHT
BEGIN:STANDARD
TZOFFSETFROM:-0600
TZOFFSETTO:-0700
TZNAME:MST
DTSTART:20241103T080000
END:STANDARD
BEGIN:DAYLIGHT
TZOFFSETFROM:-0700
TZOFFSETTO:-0600
TZNAME:MDT
DTSTART:20250309T090000
END:DAYLIGHT
BEGIN:STANDARD
TZOFFSETFROM:-0600
TZOFFSETTO:-0700
TZNAME:MST
DTSTART:20251102T080000
END:STANDARD
BEGIN:DAYLIGHT
TZOFFSETFROM:-0700
TZOFFSETTO:-0600
TZNAME:MDT
DTSTART:20260308T090000
END:DAYLIGHT
BEGIN:STANDARD
TZOFFSETFROM:-0600
TZOFFSETTO:-0700
TZNAME:MST
DTSTART:20261101T080000
END:STANDARD
END:VTIMEZONE
BEGIN:VEVENT
DTSTART;TZID=America/Denver:20250416T080000
DTEND;TZID=America/Denver:20250416T150000
DTSTAMP:20260422T083853
CREATED:20250327T174322Z
LAST-MODIFIED:20250328T165622Z
UID:10000012-1744790400-1744815600@www.greateducation.org
SUMMARY:Get it Done! Advocacy Day
DESCRIPTION:🎉Get it Done! Advocacy Day is coming! 🏛️✨ \n📅 A full day of learning\, action & impact at the Colorado State Capitol! \n💬 Meet with legislators\, speak up for public education\, and sharpen your advocacy skills. \n🍳 Free breakfast and lunch\, good convos\, and a Capitol photo op? Yes please. \n🚀 Whether you’re new to advocacy or a pro\, this is your moment to #GetItDone for our schools!
URL:https://www.greateducation.org/event/get-it-done-advocacy-day/
LOCATION:First Baptist Church of Denver\, 1373 N Grant Street\, Denver\, CO\, 80203\, United States
CATEGORIES:Advocacy Day
ATTACH;FMTTYPE=image/png:https://www.greateducation.org/wp-content/uploads/2025/03/Advocacy_SaveTheDate-1.png
END:VEVENT
END:VCALENDAR