BEGIN:VCALENDAR
VERSION:2.0
PRODID:-//Great Education Colorado - ECPv6.15.20//NONSGML v1.0//EN
CALSCALE:GREGORIAN
METHOD:PUBLISH
X-WR-CALNAME:Great Education Colorado
X-ORIGINAL-URL:https://www.greateducation.org
X-WR-CALDESC:Events for Great Education Colorado
REFRESH-INTERVAL;VALUE=DURATION:PT1H
X-Robots-Tag:noindex
X-PUBLISHED-TTL:PT1H
BEGIN:VTIMEZONE
TZID:America/Denver
BEGIN:DAYLIGHT
TZOFFSETFROM:-0700
TZOFFSETTO:-0600
TZNAME:MDT
DTSTART:20170312T090000
END:DAYLIGHT
BEGIN:STANDARD
TZOFFSETFROM:-0600
TZOFFSETTO:-0700
TZNAME:MST
DTSTART:20171105T080000
END:STANDARD
BEGIN:DAYLIGHT
TZOFFSETFROM:-0700
TZOFFSETTO:-0600
TZNAME:MDT
DTSTART:20180311T090000
END:DAYLIGHT
BEGIN:STANDARD
TZOFFSETFROM:-0600
TZOFFSETTO:-0700
TZNAME:MST
DTSTART:20181104T080000
END:STANDARD
BEGIN:DAYLIGHT
TZOFFSETFROM:-0700
TZOFFSETTO:-0600
TZNAME:MDT
DTSTART:20190310T090000
END:DAYLIGHT
BEGIN:STANDARD
TZOFFSETFROM:-0600
TZOFFSETTO:-0700
TZNAME:MST
DTSTART:20191103T080000
END:STANDARD
BEGIN:DAYLIGHT
TZOFFSETFROM:-0700
TZOFFSETTO:-0600
TZNAME:MDT
DTSTART:20200308T090000
END:DAYLIGHT
BEGIN:STANDARD
TZOFFSETFROM:-0600
TZOFFSETTO:-0700
TZNAME:MST
DTSTART:20201101T080000
END:STANDARD
BEGIN:DAYLIGHT
TZOFFSETFROM:-0700
TZOFFSETTO:-0600
TZNAME:MDT
DTSTART:20210314T090000
END:DAYLIGHT
BEGIN:STANDARD
TZOFFSETFROM:-0600
TZOFFSETTO:-0700
TZNAME:MST
DTSTART:20211107T080000
END:STANDARD
BEGIN:DAYLIGHT
TZOFFSETFROM:-0700
TZOFFSETTO:-0600
TZNAME:MDT
DTSTART:20220313T090000
END:DAYLIGHT
BEGIN:STANDARD
TZOFFSETFROM:-0600
TZOFFSETTO:-0700
TZNAME:MST
DTSTART:20221106T080000
END:STANDARD
BEGIN:DAYLIGHT
TZOFFSETFROM:-0700
TZOFFSETTO:-0600
TZNAME:MDT
DTSTART:20230312T090000
END:DAYLIGHT
BEGIN:STANDARD
TZOFFSETFROM:-0600
TZOFFSETTO:-0700
TZNAME:MST
DTSTART:20231105T080000
END:STANDARD
BEGIN:DAYLIGHT
TZOFFSETFROM:-0700
TZOFFSETTO:-0600
TZNAME:MDT
DTSTART:20240310T090000
END:DAYLIGHT
BEGIN:STANDARD
TZOFFSETFROM:-0600
TZOFFSETTO:-0700
TZNAME:MST
DTSTART:20241103T080000
END:STANDARD
BEGIN:DAYLIGHT
TZOFFSETFROM:-0700
TZOFFSETTO:-0600
TZNAME:MDT
DTSTART:20250309T090000
END:DAYLIGHT
BEGIN:STANDARD
TZOFFSETFROM:-0600
TZOFFSETTO:-0700
TZNAME:MST
DTSTART:20251102T080000
END:STANDARD
BEGIN:DAYLIGHT
TZOFFSETFROM:-0700
TZOFFSETTO:-0600
TZNAME:MDT
DTSTART:20260308T090000
END:DAYLIGHT
BEGIN:STANDARD
TZOFFSETFROM:-0600
TZOFFSETTO:-0700
TZNAME:MST
DTSTART:20261101T080000
END:STANDARD
BEGIN:DAYLIGHT
TZOFFSETFROM:-0700
TZOFFSETTO:-0600
TZNAME:MDT
DTSTART:20270314T090000
END:DAYLIGHT
BEGIN:STANDARD
TZOFFSETFROM:-0600
TZOFFSETTO:-0700
TZNAME:MST
DTSTART:20271107T080000
END:STANDARD
END:VTIMEZONE
BEGIN:VEVENT
DTSTART;TZID=America/Denver:20260217T080000
DTEND;TZID=America/Denver:20260217T170000
DTSTAMP:20260419T230942
CREATED:20260217T163231Z
LAST-MODIFIED:20260217T163231Z
UID:10000216-1771315200-1771347600@www.greateducation.org
SUMMARY:ESWN MONTHLY MEETING
DESCRIPTION:
URL:https://www.greateducation.org/event/eswn-monthly-meeting/2026-02-17/
CATEGORIES:ESWN
ATTACH;FMTTYPE=image/png:https://www.greateducation.org/wp-content/uploads/2026/02/Screenshot-2026-02-17-at-7.36.36-AM.png
END:VEVENT
BEGIN:VEVENT
DTSTART;TZID=America/Denver:20251003T110000
DTEND;TZID=America/Denver:20251003T140000
DTSTAMP:20260419T230942
CREATED:20250327T172207Z
LAST-MODIFIED:20250327T172207Z
UID:10000011-1759489200-1759500000@www.greateducation.org
SUMMARY:14th Annual Great Education Colorado Luncheon
DESCRIPTION:Join Great Education Colorado for our 14th Annual Luncheon at Denver Botanic Gardens from 11AM- 2PM. We are Celebrating the Champions Who Get It Done! for Colorado Students
URL:https://www.greateducation.org/event/14th-annual-great-education-colorado-luncheon/
LOCATION:Denver Botanic Gardens\, 1007 York St\, Denver\, CO\, 80206\, United States
CATEGORIES:Annual Luncheon
END:VEVENT
BEGIN:VEVENT
DTSTART;TZID=America/Denver:20250820T173000
DTEND;TZID=America/Denver:20250820T193000
DTSTAMP:20260419T230942
CREATED:20250728T214654Z
LAST-MODIFIED:20250728T214654Z
UID:10000014-1755711000-1755718200@www.greateducation.org
SUMMARY:AMPE Meeting the Moment: The Fight for Our Public Schools
DESCRIPTION:The Fight for Our Public Schools \nA Critical Conversation at a Critical Time\nToday Colorado’s public schools face unprecedented challenges from federal funding cuts to privatization to economic uncertainty. Because of TABOR (and unlike other states)\, Colorado can not respond in a meaningful way to those challenges without a vote of the people. \nGreat Education Colorado’s Ambassadors for Public Education invite you for a discussion with special guests including House Assistant Majority Leader Jennifer Bacon and Colorado Superintendent of the Year Deirdre Pilch (Greeley-Evans District 6) about how school districts\, legislators\, advocates\, and Great Ed are meeting the moment.
URL:https://www.greateducation.org/event/ampe-meeting-the-moment-the-fight-for-our-public-schools/
ATTACH;FMTTYPE=image/png:https://www.greateducation.org/wp-content/uploads/2025/07/GEC-AMPE-Web-Banners.png
END:VEVENT
BEGIN:VEVENT
DTSTART;TZID=America/Denver:20250721T080000
DTEND;TZID=America/Denver:20250721T170000
DTSTAMP:20260419T230942
CREATED:20250721T180513Z
LAST-MODIFIED:20250723T015509Z
UID:10000013-1753084800-1753117200@www.greateducation.org
SUMMARY:ESWN Summit
DESCRIPTION:
URL:https://www.greateducation.org/event/eswn-summit/
LOCATION:SpringHill Suites Denver Downtown\, 1190 Auraria Parkway /\, Denver\, CO\, 80204\, United States
CATEGORIES:Conference
ATTACH;FMTTYPE=image/png:https://www.greateducation.org/wp-content/uploads/2025/07/GEC-ESWN-Save-the-Date-IG-size-1.png
END:VEVENT
BEGIN:VEVENT
DTSTART;TZID=America/Denver:20250416T080000
DTEND;TZID=America/Denver:20250416T150000
DTSTAMP:20260419T230942
CREATED:20250327T174322Z
LAST-MODIFIED:20250328T165622Z
UID:10000012-1744790400-1744815600@www.greateducation.org
SUMMARY:Get it Done! Advocacy Day
DESCRIPTION:🎉Get it Done! Advocacy Day is coming! 🏛️✨ \n📅 A full day of learning\, action & impact at the Colorado State Capitol! \n💬 Meet with legislators\, speak up for public education\, and sharpen your advocacy skills. \n🍳 Free breakfast and lunch\, good convos\, and a Capitol photo op? Yes please. \n🚀 Whether you’re new to advocacy or a pro\, this is your moment to #GetItDone for our schools!
URL:https://www.greateducation.org/event/get-it-done-advocacy-day/
LOCATION:First Baptist Church of Denver\, 1373 N Grant Street\, Denver\, CO\, 80203\, United States
CATEGORIES:Advocacy Day
ATTACH;FMTTYPE=image/png:https://www.greateducation.org/wp-content/uploads/2025/03/Advocacy_SaveTheDate-1.png
END:VEVENT
BEGIN:VEVENT
DTSTART;TZID=America/Denver:20240924T110000
DTEND;TZID=America/Denver:20240924T140000
DTSTAMP:20260419T230942
CREATED:20240306T211651Z
LAST-MODIFIED:20240306T211734Z
UID:10000010-1727175600-1727186400@www.greateducation.org
SUMMARY:13th Annual Great Education Colorado Luncheon
DESCRIPTION:
URL:https://www.greateducation.org/event/13th-annual-great-education-colorado-luncheon/
LOCATION:Denver Botanic Gardens\, 1007 York St\, Denver\, CO\, 80206\, United States
END:VEVENT
BEGIN:VEVENT
DTSTART;TZID=America/Denver:20231004T120000
DTEND;TZID=America/Denver:20231004T140000
DTSTAMP:20260419T230942
CREATED:20230315T193659Z
LAST-MODIFIED:20230926T214834Z
UID:10000007-1696420800-1696428000@www.greateducation.org
SUMMARY:12th Annual Great Education Colorado Luncheon
DESCRIPTION:Register here: \nhttps://www.greateducation.org/annual-luncheon \nSponsorship information can be found here: \nhttps://www.greateducation.org/wp-content/uploads/2023/07/2023-Luncheon-Sponsorship-Packet-v4.pdf
URL:https://www.greateducation.org/event/12th-annual-great-education-colorado-luncheon/
LOCATION:Denver Botanic Gardens\, 1007 York St\, Denver\, CO\, 80206\, United States
CATEGORIES:Annual Luncheon
ATTACH;FMTTYPE=image/png:https://www.greateducation.org/wp-content/uploads/2023/03/2023-GEC-Luncheon.png
END:VEVENT
BEGIN:VEVENT
DTSTART;TZID=America/Denver:20230914T080000
DTEND;TZID=America/Denver:20230914T170000
DTSTAMP:20260419T230942
CREATED:20230825T234230Z
LAST-MODIFIED:20230901T224219Z
UID:10000008-1694678400-1694710800@www.greateducation.org
SUMMARY:GEC ACTION SUMMIT: CREATING WELCOMING SCHOOLS
DESCRIPTION:
URL:https://www.greateducation.org/event/gec-action-summit-creating-welcoming-schools/
LOCATION:Double Tree Hilton\, 13696 E Iliff Pl\,\, Aurora\, Colorado\, 80014
ATTACH;FMTTYPE=image/png:https://www.greateducation.org/wp-content/uploads/2023/06/Action-network.png
END:VEVENT
BEGIN:VEVENT
DTSTART;TZID=America/Denver:20230912T163000
DTEND;TZID=America/Denver:20230912T173000
DTSTAMP:20260419T230942
CREATED:20230901T224022Z
LAST-MODIFIED:20230901T224022Z
UID:10000009-1694536200-1694539800@www.greateducation.org
SUMMARY:GEC ADVOCATES NETWORK MEETING
DESCRIPTION:
URL:https://www.greateducation.org/event/gec-advocates-network-meeting/
ATTACH;FMTTYPE=image/png:https://www.greateducation.org/wp-content/uploads/2023/09/GEC-Advocates-Network.png
END:VEVENT
BEGIN:VEVENT
DTSTART;TZID=America/Denver:20211006T120000
DTEND;TZID=America/Denver:20211006T140000
DTSTAMP:20260419T230942
CREATED:20210716T220400Z
LAST-MODIFIED:20210720T140330Z
UID:10000006-1633521600-1633528800@www.greateducation.org
SUMMARY:10th Annual Great Education Colorado Luncheon
DESCRIPTION:CLICK HERE to see event details and to register.
URL:https://www.greateducation.org/event/10th-annual-great-education-colorado-luncheon/
LOCATION:Denver Botanic Gardens\, 1007 York St\, Denver\, CO\, 80206\, United States
CATEGORIES:Annual Luncheon
ATTACH;FMTTYPE=image/png:https://www.greateducation.org/wp-content/uploads/2021/07/Luncheon-2021-Dr-Joyce-Brooks.png
END:VEVENT
BEGIN:VEVENT
DTSTART;TZID=America/Denver:20210407T180000
DTEND;TZID=America/Denver:20210407T200000
DTSTAMP:20260419T230942
CREATED:20210401T180711Z
LAST-MODIFIED:20210401T181100Z
UID:10000005-1617818400-1617825600@www.greateducation.org
SUMMARY:Power Up for Public Ed
DESCRIPTION:Register Now for Power Up for Public Ed\, a grassroots event\, on April 7th at 6pm! \nOnce you register\, we will send you the Zoom link for the event. Thank you for being a public education advocate! \nRegister here: https://greateducation.salsalabs.org/educationadvocacysummitregistration/index.html
URL:https://www.greateducation.org/event/power-up-for-public-ed/
LOCATION:Virtual
ATTACH;FMTTYPE=image/jpeg:https://www.greateducation.org/wp-content/uploads/2021/04/Power-Up-for-Public-Ed.jpg
END:VEVENT
BEGIN:VEVENT
DTSTART;TZID=America/Denver:20191010T080000
DTEND;TZID=America/Denver:20191010T170000
DTSTAMP:20260419T230942
CREATED:20201130T213020Z
LAST-MODIFIED:20201202T160203Z
UID:10000004-1570694400-1570726800@www.greateducation.org
SUMMARY:9th Annual Great Education Colorado Luncheon
DESCRIPTION:Great Education Colorado’s annual luncheon each year honors a public education supporter. Past honorees include: \n\nCary Kennedy\, Denver deputy mayor;\nElaine Gantz Berman\, state board of education member;\nGeorge Sparks\, president and CEO of the Denver Museum of Nature & Science;\nDonna Lynne\, President of Kaiser Foundation Health Plan of Colorado;\nBob Deibel\, President of OfficeScapes;\nDaniel L. Ritchie\, civic leader;\nSam and Nancy Gary\, education advocates\, philanthropists\, and founders of Gary Community Investments.\nMike Ferrufino\, President & CEO of the Hispanic Chamber of Commerce of Metro Denver\n\nThe event honored Rollie and Josie Heath. \nIn 2014\, for the first time Great Ed gave out a new award created in fond memory of our former Board Chair\, Vicki Mattox\, to recognize and celebrate those who have dedicated their lives to educating the students of Colorado. Recipients of this award have included Dr. Cynthia Stevenson\, former Superintendent of Jefferson County School District\, and Colorado’s superintendents.
URL:https://www.greateducation.org/event/9th-annual-great-education-colorado-luncheon/
LOCATION:Hyatt Regency Denver At Colorado Convention Center\, 650 15th St\, Denver\, CO\, 80202\, United States
CATEGORIES:Annual Luncheon
END:VEVENT
BEGIN:VEVENT
DTSTART;TZID=America/Denver:20180228T090000
DTEND;TZID=America/Denver:20201130T153000
DTSTAMP:20260419T230942
CREATED:20201130T212049Z
LAST-MODIFIED:20201130T212343Z
UID:10000003-1519808400-1606750200@www.greateducation.org
SUMMARY:2018 Great Futures Action Summit
DESCRIPTION:Action Summit: 9:00am – 3:30pm (Registration opens at 8:30am)\nSocial/Networking Hour: 3:30pm – 4:30pm\nAgenda \nEducation is the bedrock of our strength as a state and\, at this conference\, we will be building toward a plan of action to support Colorado’s students and our state’s future. \nWe’re bringing people together from diverse communities to learn as a group\, to get the word out to our own constituents\, to discuss where we should go from here\, and to get ready for meaningful action. \nWho should attend?\nParents\, educators\, policymakers — anyone who believes in adequate and equitable funding for our schools. It’s time we address the growing inequities across districts\, lost educational opportunities and a growing teacher shortage across our state. Come if you want to: \n\nLearn about local and state funding issues\nGain skills to advocate for better investment in Colorado’s classrooms\nMagnify your efforts by expanding your network\nCommit to concrete action steps toward solving this unacceptable situation\n\nPublic schools not only empower our youth to realize their aspirations and dreams\, but are the hub of community engagement\, heart of the community and the economic engine to propel Colorado forward. \nBecome a part of a statewide coordinated effort to raise awareness and prepare Colorado voters to invest in our students\, our communities and our state! Join hundreds of public education supporters from across Colorado and leave excited\, fully engaged\, and with a concrete plan of action to support all Colorado students.
URL:https://www.greateducation.org/event/2018-great-futures-action-summit/
LOCATION:Driscoll Center at the University of Denver\, 2055 E. Evans Ave.\, Denver\, CO\, 80210\, United States
CATEGORIES:Conference
ATTACH;FMTTYPE=image/jpeg:https://www.greateducation.org/wp-content/uploads/2018/02/summitlogos18.jpg
END:VEVENT
END:VCALENDAR