BEGIN:VCALENDAR
VERSION:2.0
PRODID:-//Great Education Colorado - ECPv6.15.20//NONSGML v1.0//EN
CALSCALE:GREGORIAN
METHOD:PUBLISH
X-WR-CALNAME:Great Education Colorado
X-ORIGINAL-URL:https://www.greateducation.org
X-WR-CALDESC:Events for Great Education Colorado
REFRESH-INTERVAL;VALUE=DURATION:PT1H
X-Robots-Tag:noindex
X-PUBLISHED-TTL:PT1H
BEGIN:VTIMEZONE
TZID:America/Denver
BEGIN:DAYLIGHT
TZOFFSETFROM:-0700
TZOFFSETTO:-0600
TZNAME:MDT
DTSTART:20230312T090000
END:DAYLIGHT
BEGIN:STANDARD
TZOFFSETFROM:-0600
TZOFFSETTO:-0700
TZNAME:MST
DTSTART:20231105T080000
END:STANDARD
BEGIN:DAYLIGHT
TZOFFSETFROM:-0700
TZOFFSETTO:-0600
TZNAME:MDT
DTSTART:20240310T090000
END:DAYLIGHT
BEGIN:STANDARD
TZOFFSETFROM:-0600
TZOFFSETTO:-0700
TZNAME:MST
DTSTART:20241103T080000
END:STANDARD
BEGIN:DAYLIGHT
TZOFFSETFROM:-0700
TZOFFSETTO:-0600
TZNAME:MDT
DTSTART:20250309T090000
END:DAYLIGHT
BEGIN:STANDARD
TZOFFSETFROM:-0600
TZOFFSETTO:-0700
TZNAME:MST
DTSTART:20251102T080000
END:STANDARD
BEGIN:DAYLIGHT
TZOFFSETFROM:-0700
TZOFFSETTO:-0600
TZNAME:MDT
DTSTART:20260308T090000
END:DAYLIGHT
BEGIN:STANDARD
TZOFFSETFROM:-0600
TZOFFSETTO:-0700
TZNAME:MST
DTSTART:20261101T080000
END:STANDARD
BEGIN:DAYLIGHT
TZOFFSETFROM:-0700
TZOFFSETTO:-0600
TZNAME:MDT
DTSTART:20270314T090000
END:DAYLIGHT
BEGIN:STANDARD
TZOFFSETFROM:-0600
TZOFFSETTO:-0700
TZNAME:MST
DTSTART:20271107T080000
END:STANDARD
END:VTIMEZONE
BEGIN:VEVENT
DTSTART;TZID=America/Denver:20260416T130000
DTEND;TZID=America/Denver:20260416T140000
DTSTAMP:20260419T193548
CREATED:20260217T153813Z
LAST-MODIFIED:20260217T153823Z
UID:10000033-1776344400-1776348000@www.greateducation.org
SUMMARY:Every Student Welcome Network Office Hours
DESCRIPTION:Virtual Every Student Welcome Network website support office hours \nLearn more about ESWN and how to use our online resource hub
URL:https://www.greateducation.org/event/every-student-welcome-network/2026-04-16/
CATEGORIES:ESWN
ATTACH;FMTTYPE=image/png:https://www.greateducation.org/wp-content/uploads/2026/02/Screenshot-2026-02-17-at-7.36.36-AM.png
LOCATION:https://us02web.zoom.us/j/86055363497?pwd=IuhhRajFoXLXjGIcbNaeQ0gsYYH4BQ.1
END:VEVENT
BEGIN:VEVENT
DTSTART;TZID=America/Denver:20260414T163000
DTEND;TZID=America/Denver:20260414T173000
DTSTAMP:20260419T193549
CREATED:20260217T155143Z
LAST-MODIFIED:20260217T155225Z
UID:10000135-1776184200-1776187800@www.greateducation.org
SUMMARY:Advocates Network Virtual Monthly Meeting
DESCRIPTION:Great Education Colorado’s Advocates Network meets every second Tuesday of the month at 4:30pm to hear from you and share opportunities where you can take action as an advocate for adequate and equitable funding for Colorado’s K12 public schools!\nIn each meeting\, we listen to different perspectives\, learn about current issues in school funding\, and activate our leadership by taking action together. \nThis is Great Education Colorado’s community where aspiring change makers become action ambassadors for public education. Through the Advocates Network\, Great Ed is preparing people to become confident education advocates. Where you can take action as an advocate for adequate and equitable funding for Colorado’s K12 public schools. Each month Great Ed’s Advocates Network community comes together to hear updates about public education and learn about opportunities to plug into education advocacy.
URL:https://www.greateducation.org/event/advocates-network-virtual-monthly-meeting/2026-04-14/
CATEGORIES:Advocates Network
ATTACH;FMTTYPE=image/png:https://www.greateducation.org/wp-content/uploads/2026/02/Advocates-Network-Logo.png
END:VEVENT
BEGIN:VEVENT
DTSTART;TZID=America/Denver:20260414T130000
DTEND;TZID=America/Denver:20260414T140000
DTSTAMP:20260419T193549
CREATED:20260217T153813Z
LAST-MODIFIED:20260217T153823Z
UID:10000032-1776171600-1776175200@www.greateducation.org
SUMMARY:Every Student Welcome Network Office Hours
DESCRIPTION:Virtual Every Student Welcome Network website support office hours \nLearn more about ESWN and how to use our online resource hub
URL:https://www.greateducation.org/event/every-student-welcome-network/2026-04-14/
CATEGORIES:ESWN
ATTACH;FMTTYPE=image/png:https://www.greateducation.org/wp-content/uploads/2026/02/Screenshot-2026-02-17-at-7.36.36-AM.png
LOCATION:https://us02web.zoom.us/j/86055363497?pwd=IuhhRajFoXLXjGIcbNaeQ0gsYYH4BQ.1
END:VEVENT
BEGIN:VEVENT
DTSTART;TZID=America/Denver:20260409T130000
DTEND;TZID=America/Denver:20260409T140000
DTSTAMP:20260419T193549
CREATED:20260217T153813Z
LAST-MODIFIED:20260217T153823Z
UID:10000031-1775739600-1775743200@www.greateducation.org
SUMMARY:Every Student Welcome Network Office Hours
DESCRIPTION:Virtual Every Student Welcome Network website support office hours \nLearn more about ESWN and how to use our online resource hub
URL:https://www.greateducation.org/event/every-student-welcome-network/2026-04-09/
CATEGORIES:ESWN
ATTACH;FMTTYPE=image/png:https://www.greateducation.org/wp-content/uploads/2026/02/Screenshot-2026-02-17-at-7.36.36-AM.png
LOCATION:https://us02web.zoom.us/j/86055363497?pwd=IuhhRajFoXLXjGIcbNaeQ0gsYYH4BQ.1
END:VEVENT
BEGIN:VEVENT
DTSTART;TZID=America/Denver:20260409T080000
DTEND;TZID=America/Denver:20260409T150000
DTSTAMP:20260419T193549
CREATED:20260304T230025Z
LAST-MODIFIED:20260404T150202Z
UID:10000226-1775721600-1775746800@www.greateducation.org
SUMMARY:Great Education Colorado Advocacy Day 2026
DESCRIPTION:  \nJoin Great Education Colorado for a day of advocacy\, skill-building\, and community!\nThursday\, April 9 from 8:30 am to 3:00 pm @ First Baptist Church of Denver (1373 N Grant St) \nOur 2026 Advocacy Day is an exciting opportunity to level up your support of public education. Whether you’re a seasoned advocate or a newcomer\, this full-day event is your chance to deepen your knowledge about school funding in Colorado\, learn & rehearse advocacy skills\, and connect with other public education super-fans in your district or region. \nAdvocacy Day will include training sessions on the school finance adequacy studies and the graduated income tax ballot measure\, as well as conversations with state legislators. \nWe look forward to seeing you there\, and we hope you’ll bring a friend! *Stay tuned for more info — and put a hold on your calendar — about an optional social hour after the program concludes at 3 pm.* \nQuestions or concerns? Please email Kristen Wnuck\, Public Affairs Coordinator\, at kristenw@greateducation.org.
URL:https://www.greateducation.org/event/great-education-colorado-advocacy-day-2026/
LOCATION:First Baptist Church of Denver\, 1373 N Grant Street\, Denver\, CO\, 80203\, United States
CATEGORIES:Advocacy Day
ATTACH;FMTTYPE=image/png:https://www.greateducation.org/wp-content/uploads/2026/03/Save-the-date-advocacy-day-26.png
END:VEVENT
BEGIN:VEVENT
DTSTART;TZID=America/Denver:20260407T130000
DTEND;TZID=America/Denver:20260407T140000
DTSTAMP:20260419T193549
CREATED:20260217T153813Z
LAST-MODIFIED:20260217T153823Z
UID:10000030-1775566800-1775570400@www.greateducation.org
SUMMARY:Every Student Welcome Network Office Hours
DESCRIPTION:Virtual Every Student Welcome Network website support office hours \nLearn more about ESWN and how to use our online resource hub
URL:https://www.greateducation.org/event/every-student-welcome-network/2026-04-07/
CATEGORIES:ESWN
ATTACH;FMTTYPE=image/png:https://www.greateducation.org/wp-content/uploads/2026/02/Screenshot-2026-02-17-at-7.36.36-AM.png
LOCATION:https://us02web.zoom.us/j/86055363497?pwd=IuhhRajFoXLXjGIcbNaeQ0gsYYH4BQ.1
END:VEVENT
BEGIN:VEVENT
DTSTART;TZID=America/Denver:20260402T170000
DTEND;TZID=America/Denver:20260402T180000
DTSTAMP:20260419T193549
CREATED:20260217T162439Z
LAST-MODIFIED:20260217T162439Z
UID:10000157-1775149200-1775152800@www.greateducation.org
SUMMARY:Public School Strong Colorado Monthly Meeting
DESCRIPTION:Calling all public education advocates! Join us for the March organizing meeting of Public School Strong Colorado! \nWe’ll provide a brief update on the state of public education in Colorado before jumping into our organizing work! Returning attendees will talk about defending against the federal tax credit voucher program\, learn how to support school funding ballot measures\, and discuss keeping our students safe in school. New attendees will be oriented to Public School Strong Colorado. \nPublic School Strong Colorado is a collaboration between Great Education Colorado\, Colorado Education Association\, Colorado PTA\, and Colorado Statewide Parent Coalition\, as well as our national partner HEAL Together. We meet the first Thursday of every month on Zoom at 5 pm MT. \nPublic School Strong Colorado is made up of parents\, students\, educators\, advocates\, and community members who are committed to honest\, equitable\, and fully funded public schools. We organize by school district across a variety of issues that affect Colorado’s public education system. Together\, we will:\nAdvocate for all students in our school districts;\nConnect with other advocates in our communities;\nJoin a nationwide movement to advance a vision of honest\, equitable\, and fully funded public education for every student
URL:https://www.greateducation.org/event/public-school-strong-colorado-monthly-meeting/2026-04-02/
ATTACH;FMTTYPE=image/png:https://www.greateducation.org/wp-content/uploads/2026/02/PSS-CO-Graphic.png
END:VEVENT
BEGIN:VEVENT
DTSTART;TZID=America/Denver:20260402T130000
DTEND;TZID=America/Denver:20260402T140000
DTSTAMP:20260419T193549
CREATED:20260217T153813Z
LAST-MODIFIED:20260217T153823Z
UID:10000029-1775134800-1775138400@www.greateducation.org
SUMMARY:Every Student Welcome Network Office Hours
DESCRIPTION:Virtual Every Student Welcome Network website support office hours \nLearn more about ESWN and how to use our online resource hub
URL:https://www.greateducation.org/event/every-student-welcome-network/2026-04-02/
CATEGORIES:ESWN
ATTACH;FMTTYPE=image/png:https://www.greateducation.org/wp-content/uploads/2026/02/Screenshot-2026-02-17-at-7.36.36-AM.png
LOCATION:https://us02web.zoom.us/j/86055363497?pwd=IuhhRajFoXLXjGIcbNaeQ0gsYYH4BQ.1
END:VEVENT
BEGIN:VEVENT
DTSTART;TZID=America/Denver:20260331T130000
DTEND;TZID=America/Denver:20260331T140000
DTSTAMP:20260419T193549
CREATED:20260217T153813Z
LAST-MODIFIED:20260217T153823Z
UID:10000028-1774962000-1774965600@www.greateducation.org
SUMMARY:Every Student Welcome Network Office Hours
DESCRIPTION:Virtual Every Student Welcome Network website support office hours \nLearn more about ESWN and how to use our online resource hub
URL:https://www.greateducation.org/event/every-student-welcome-network/2026-03-31/
CATEGORIES:ESWN
ATTACH;FMTTYPE=image/png:https://www.greateducation.org/wp-content/uploads/2026/02/Screenshot-2026-02-17-at-7.36.36-AM.png
LOCATION:https://us02web.zoom.us/j/86055363497?pwd=IuhhRajFoXLXjGIcbNaeQ0gsYYH4BQ.1
END:VEVENT
BEGIN:VEVENT
DTSTART;TZID=America/Denver:20260326T130000
DTEND;TZID=America/Denver:20260326T140000
DTSTAMP:20260419T193549
CREATED:20260217T153813Z
LAST-MODIFIED:20260217T153823Z
UID:10000027-1774530000-1774533600@www.greateducation.org
SUMMARY:Every Student Welcome Network Office Hours
DESCRIPTION:Virtual Every Student Welcome Network website support office hours \nLearn more about ESWN and how to use our online resource hub
URL:https://www.greateducation.org/event/every-student-welcome-network/2026-03-26/
CATEGORIES:ESWN
ATTACH;FMTTYPE=image/png:https://www.greateducation.org/wp-content/uploads/2026/02/Screenshot-2026-02-17-at-7.36.36-AM.png
LOCATION:https://us02web.zoom.us/j/86055363497?pwd=IuhhRajFoXLXjGIcbNaeQ0gsYYH4BQ.1
END:VEVENT
BEGIN:VEVENT
DTSTART;TZID=America/Denver:20260324T130000
DTEND;TZID=America/Denver:20260324T140000
DTSTAMP:20260419T193549
CREATED:20260217T153813Z
LAST-MODIFIED:20260217T153823Z
UID:10000026-1774357200-1774360800@www.greateducation.org
SUMMARY:Every Student Welcome Network Office Hours
DESCRIPTION:Virtual Every Student Welcome Network website support office hours \nLearn more about ESWN and how to use our online resource hub
URL:https://www.greateducation.org/event/every-student-welcome-network/2026-03-24/
CATEGORIES:ESWN
ATTACH;FMTTYPE=image/png:https://www.greateducation.org/wp-content/uploads/2026/02/Screenshot-2026-02-17-at-7.36.36-AM.png
LOCATION:https://us02web.zoom.us/j/86055363497?pwd=IuhhRajFoXLXjGIcbNaeQ0gsYYH4BQ.1
END:VEVENT
BEGIN:VEVENT
DTSTART;TZID=America/Denver:20260319T130000
DTEND;TZID=America/Denver:20260319T140000
DTSTAMP:20260419T193549
CREATED:20260217T153813Z
LAST-MODIFIED:20260217T153823Z
UID:10000025-1773925200-1773928800@www.greateducation.org
SUMMARY:Every Student Welcome Network Office Hours
DESCRIPTION:Virtual Every Student Welcome Network website support office hours \nLearn more about ESWN and how to use our online resource hub
URL:https://www.greateducation.org/event/every-student-welcome-network/2026-03-19/
CATEGORIES:ESWN
ATTACH;FMTTYPE=image/png:https://www.greateducation.org/wp-content/uploads/2026/02/Screenshot-2026-02-17-at-7.36.36-AM.png
LOCATION:https://us02web.zoom.us/j/86055363497?pwd=IuhhRajFoXLXjGIcbNaeQ0gsYYH4BQ.1
END:VEVENT
BEGIN:VEVENT
DTSTART;TZID=America/Denver:20260317T130000
DTEND;TZID=America/Denver:20260317T140000
DTSTAMP:20260419T193549
CREATED:20260217T153813Z
LAST-MODIFIED:20260217T153823Z
UID:10000024-1773752400-1773756000@www.greateducation.org
SUMMARY:Every Student Welcome Network Office Hours
DESCRIPTION:Virtual Every Student Welcome Network website support office hours \nLearn more about ESWN and how to use our online resource hub
URL:https://www.greateducation.org/event/every-student-welcome-network/2026-03-17/
CATEGORIES:ESWN
ATTACH;FMTTYPE=image/png:https://www.greateducation.org/wp-content/uploads/2026/02/Screenshot-2026-02-17-at-7.36.36-AM.png
LOCATION:https://us02web.zoom.us/j/86055363497?pwd=IuhhRajFoXLXjGIcbNaeQ0gsYYH4BQ.1
END:VEVENT
BEGIN:VEVENT
DTSTART;TZID=America/Denver:20260317T080000
DTEND;TZID=America/Denver:20260317T170000
DTSTAMP:20260419T193549
CREATED:20260217T163231Z
LAST-MODIFIED:20260217T163231Z
UID:10000217-1773734400-1773766800@www.greateducation.org
SUMMARY:ESWN MONTHLY MEETING
DESCRIPTION:
URL:https://www.greateducation.org/event/eswn-monthly-meeting/2026-03-17/
CATEGORIES:ESWN
ATTACH;FMTTYPE=image/png:https://www.greateducation.org/wp-content/uploads/2026/02/Screenshot-2026-02-17-at-7.36.36-AM.png
END:VEVENT
BEGIN:VEVENT
DTSTART;TZID=America/Denver:20260312T130000
DTEND;TZID=America/Denver:20260312T140000
DTSTAMP:20260419T193549
CREATED:20260217T153813Z
LAST-MODIFIED:20260217T153823Z
UID:10000023-1773320400-1773324000@www.greateducation.org
SUMMARY:Every Student Welcome Network Office Hours
DESCRIPTION:Virtual Every Student Welcome Network website support office hours \nLearn more about ESWN and how to use our online resource hub
URL:https://www.greateducation.org/event/every-student-welcome-network/2026-03-12/
CATEGORIES:ESWN
ATTACH;FMTTYPE=image/png:https://www.greateducation.org/wp-content/uploads/2026/02/Screenshot-2026-02-17-at-7.36.36-AM.png
LOCATION:https://us02web.zoom.us/j/86055363497?pwd=IuhhRajFoXLXjGIcbNaeQ0gsYYH4BQ.1
END:VEVENT
BEGIN:VEVENT
DTSTART;TZID=America/Denver:20260310T163000
DTEND;TZID=America/Denver:20260310T173000
DTSTAMP:20260419T193549
CREATED:20260217T155143Z
LAST-MODIFIED:20260217T155225Z
UID:10000134-1773160200-1773163800@www.greateducation.org
SUMMARY:Advocates Network Virtual Monthly Meeting
DESCRIPTION:Great Education Colorado’s Advocates Network meets every second Tuesday of the month at 4:30pm to hear from you and share opportunities where you can take action as an advocate for adequate and equitable funding for Colorado’s K12 public schools!\nIn each meeting\, we listen to different perspectives\, learn about current issues in school funding\, and activate our leadership by taking action together. \nThis is Great Education Colorado’s community where aspiring change makers become action ambassadors for public education. Through the Advocates Network\, Great Ed is preparing people to become confident education advocates. Where you can take action as an advocate for adequate and equitable funding for Colorado’s K12 public schools. Each month Great Ed’s Advocates Network community comes together to hear updates about public education and learn about opportunities to plug into education advocacy.
URL:https://www.greateducation.org/event/advocates-network-virtual-monthly-meeting/2026-03-10/
CATEGORIES:Advocates Network
ATTACH;FMTTYPE=image/png:https://www.greateducation.org/wp-content/uploads/2026/02/Advocates-Network-Logo.png
END:VEVENT
BEGIN:VEVENT
DTSTART;TZID=America/Denver:20260310T130000
DTEND;TZID=America/Denver:20260310T140000
DTSTAMP:20260419T193549
CREATED:20260217T153813Z
LAST-MODIFIED:20260217T153823Z
UID:10000022-1773147600-1773151200@www.greateducation.org
SUMMARY:Every Student Welcome Network Office Hours
DESCRIPTION:Virtual Every Student Welcome Network website support office hours \nLearn more about ESWN and how to use our online resource hub
URL:https://www.greateducation.org/event/every-student-welcome-network/2026-03-10/
CATEGORIES:ESWN
ATTACH;FMTTYPE=image/png:https://www.greateducation.org/wp-content/uploads/2026/02/Screenshot-2026-02-17-at-7.36.36-AM.png
LOCATION:https://us02web.zoom.us/j/86055363497?pwd=IuhhRajFoXLXjGIcbNaeQ0gsYYH4BQ.1
END:VEVENT
BEGIN:VEVENT
DTSTART;TZID=America/Denver:20260305T170000
DTEND;TZID=America/Denver:20260305T180000
DTSTAMP:20260419T193549
CREATED:20260217T162439Z
LAST-MODIFIED:20260217T162439Z
UID:10000156-1772730000-1772733600@www.greateducation.org
SUMMARY:Public School Strong Colorado Monthly Meeting
DESCRIPTION:Calling all public education advocates! Join us for the March organizing meeting of Public School Strong Colorado! \nWe’ll provide a brief update on the state of public education in Colorado before jumping into our organizing work! Returning attendees will talk about defending against the federal tax credit voucher program\, learn how to support school funding ballot measures\, and discuss keeping our students safe in school. New attendees will be oriented to Public School Strong Colorado. \nPublic School Strong Colorado is a collaboration between Great Education Colorado\, Colorado Education Association\, Colorado PTA\, and Colorado Statewide Parent Coalition\, as well as our national partner HEAL Together. We meet the first Thursday of every month on Zoom at 5 pm MT. \nPublic School Strong Colorado is made up of parents\, students\, educators\, advocates\, and community members who are committed to honest\, equitable\, and fully funded public schools. We organize by school district across a variety of issues that affect Colorado’s public education system. Together\, we will:\nAdvocate for all students in our school districts;\nConnect with other advocates in our communities;\nJoin a nationwide movement to advance a vision of honest\, equitable\, and fully funded public education for every student
URL:https://www.greateducation.org/event/public-school-strong-colorado-monthly-meeting/2026-03-05/
ATTACH;FMTTYPE=image/png:https://www.greateducation.org/wp-content/uploads/2026/02/PSS-CO-Graphic.png
END:VEVENT
BEGIN:VEVENT
DTSTART;TZID=America/Denver:20260305T130000
DTEND;TZID=America/Denver:20260305T140000
DTSTAMP:20260419T193549
CREATED:20260217T153813Z
LAST-MODIFIED:20260217T153823Z
UID:10000021-1772715600-1772719200@www.greateducation.org
SUMMARY:Every Student Welcome Network Office Hours
DESCRIPTION:Virtual Every Student Welcome Network website support office hours \nLearn more about ESWN and how to use our online resource hub
URL:https://www.greateducation.org/event/every-student-welcome-network/2026-03-05/
CATEGORIES:ESWN
ATTACH;FMTTYPE=image/png:https://www.greateducation.org/wp-content/uploads/2026/02/Screenshot-2026-02-17-at-7.36.36-AM.png
LOCATION:https://us02web.zoom.us/j/86055363497?pwd=IuhhRajFoXLXjGIcbNaeQ0gsYYH4BQ.1
END:VEVENT
BEGIN:VEVENT
DTSTART;TZID=America/Denver:20260303T130000
DTEND;TZID=America/Denver:20260303T140000
DTSTAMP:20260419T193549
CREATED:20260217T153813Z
LAST-MODIFIED:20260217T153823Z
UID:10000020-1772542800-1772546400@www.greateducation.org
SUMMARY:Every Student Welcome Network Office Hours
DESCRIPTION:Virtual Every Student Welcome Network website support office hours \nLearn more about ESWN and how to use our online resource hub
URL:https://www.greateducation.org/event/every-student-welcome-network/2026-03-03/
CATEGORIES:ESWN
ATTACH;FMTTYPE=image/png:https://www.greateducation.org/wp-content/uploads/2026/02/Screenshot-2026-02-17-at-7.36.36-AM.png
LOCATION:https://us02web.zoom.us/j/86055363497?pwd=IuhhRajFoXLXjGIcbNaeQ0gsYYH4BQ.1
END:VEVENT
BEGIN:VEVENT
DTSTART;TZID=America/Denver:20260226T130000
DTEND;TZID=America/Denver:20260226T140000
DTSTAMP:20260419T193549
CREATED:20260217T153813Z
LAST-MODIFIED:20260217T153823Z
UID:10000019-1772110800-1772114400@www.greateducation.org
SUMMARY:Every Student Welcome Network Office Hours
DESCRIPTION:Virtual Every Student Welcome Network website support office hours \nLearn more about ESWN and how to use our online resource hub
URL:https://www.greateducation.org/event/every-student-welcome-network/2026-02-26/
CATEGORIES:ESWN
ATTACH;FMTTYPE=image/png:https://www.greateducation.org/wp-content/uploads/2026/02/Screenshot-2026-02-17-at-7.36.36-AM.png
LOCATION:https://us02web.zoom.us/j/86055363497?pwd=IuhhRajFoXLXjGIcbNaeQ0gsYYH4BQ.1
END:VEVENT
BEGIN:VEVENT
DTSTART;TZID=America/Denver:20260224T130000
DTEND;TZID=America/Denver:20260224T140000
DTSTAMP:20260419T193549
CREATED:20260217T153813Z
LAST-MODIFIED:20260217T153823Z
UID:10000018-1771938000-1771941600@www.greateducation.org
SUMMARY:Every Student Welcome Network Office Hours
DESCRIPTION:Virtual Every Student Welcome Network website support office hours \nLearn more about ESWN and how to use our online resource hub
URL:https://www.greateducation.org/event/every-student-welcome-network/2026-02-24/
CATEGORIES:ESWN
ATTACH;FMTTYPE=image/png:https://www.greateducation.org/wp-content/uploads/2026/02/Screenshot-2026-02-17-at-7.36.36-AM.png
LOCATION:https://us02web.zoom.us/j/86055363497?pwd=IuhhRajFoXLXjGIcbNaeQ0gsYYH4BQ.1
END:VEVENT
BEGIN:VEVENT
DTSTART;TZID=America/Denver:20260219T130000
DTEND;TZID=America/Denver:20260219T140000
DTSTAMP:20260419T193549
CREATED:20260217T153813Z
LAST-MODIFIED:20260217T153823Z
UID:10000017-1771506000-1771509600@www.greateducation.org
SUMMARY:Every Student Welcome Network Office Hours
DESCRIPTION:Virtual Every Student Welcome Network website support office hours \nLearn more about ESWN and how to use our online resource hub
URL:https://www.greateducation.org/event/every-student-welcome-network/2026-02-19/
CATEGORIES:ESWN
ATTACH;FMTTYPE=image/png:https://www.greateducation.org/wp-content/uploads/2026/02/Screenshot-2026-02-17-at-7.36.36-AM.png
LOCATION:https://us02web.zoom.us/j/86055363497?pwd=IuhhRajFoXLXjGIcbNaeQ0gsYYH4BQ.1
END:VEVENT
BEGIN:VEVENT
DTSTART;TZID=America/Denver:20260217T130000
DTEND;TZID=America/Denver:20260217T140000
DTSTAMP:20260419T193549
CREATED:20260217T153813Z
LAST-MODIFIED:20260217T153823Z
UID:10000016-1771333200-1771336800@www.greateducation.org
SUMMARY:Every Student Welcome Network Office Hours
DESCRIPTION:Virtual Every Student Welcome Network website support office hours \nLearn more about ESWN and how to use our online resource hub
URL:https://www.greateducation.org/event/every-student-welcome-network/2026-02-17/
CATEGORIES:ESWN
ATTACH;FMTTYPE=image/png:https://www.greateducation.org/wp-content/uploads/2026/02/Screenshot-2026-02-17-at-7.36.36-AM.png
LOCATION:https://us02web.zoom.us/j/86055363497?pwd=IuhhRajFoXLXjGIcbNaeQ0gsYYH4BQ.1
END:VEVENT
BEGIN:VEVENT
DTSTART;TZID=America/Denver:20260217T080000
DTEND;TZID=America/Denver:20260217T170000
DTSTAMP:20260419T193549
CREATED:20260217T163231Z
LAST-MODIFIED:20260217T163231Z
UID:10000216-1771315200-1771347600@www.greateducation.org
SUMMARY:ESWN MONTHLY MEETING
DESCRIPTION:
URL:https://www.greateducation.org/event/eswn-monthly-meeting/2026-02-17/
CATEGORIES:ESWN
ATTACH;FMTTYPE=image/png:https://www.greateducation.org/wp-content/uploads/2026/02/Screenshot-2026-02-17-at-7.36.36-AM.png
END:VEVENT
BEGIN:VEVENT
DTSTART;TZID=America/Denver:20251003T110000
DTEND;TZID=America/Denver:20251003T140000
DTSTAMP:20260419T193549
CREATED:20250327T172207Z
LAST-MODIFIED:20250327T172207Z
UID:10000011-1759489200-1759500000@www.greateducation.org
SUMMARY:14th Annual Great Education Colorado Luncheon
DESCRIPTION:Join Great Education Colorado for our 14th Annual Luncheon at Denver Botanic Gardens from 11AM- 2PM. We are Celebrating the Champions Who Get It Done! for Colorado Students
URL:https://www.greateducation.org/event/14th-annual-great-education-colorado-luncheon/
LOCATION:Denver Botanic Gardens\, 1007 York St\, Denver\, CO\, 80206\, United States
CATEGORIES:Annual Luncheon
END:VEVENT
BEGIN:VEVENT
DTSTART;TZID=America/Denver:20250820T173000
DTEND;TZID=America/Denver:20250820T193000
DTSTAMP:20260419T193549
CREATED:20250728T214654Z
LAST-MODIFIED:20250728T214654Z
UID:10000014-1755711000-1755718200@www.greateducation.org
SUMMARY:AMPE Meeting the Moment: The Fight for Our Public Schools
DESCRIPTION:The Fight for Our Public Schools \nA Critical Conversation at a Critical Time\nToday Colorado’s public schools face unprecedented challenges from federal funding cuts to privatization to economic uncertainty. Because of TABOR (and unlike other states)\, Colorado can not respond in a meaningful way to those challenges without a vote of the people. \nGreat Education Colorado’s Ambassadors for Public Education invite you for a discussion with special guests including House Assistant Majority Leader Jennifer Bacon and Colorado Superintendent of the Year Deirdre Pilch (Greeley-Evans District 6) about how school districts\, legislators\, advocates\, and Great Ed are meeting the moment.
URL:https://www.greateducation.org/event/ampe-meeting-the-moment-the-fight-for-our-public-schools/
ATTACH;FMTTYPE=image/png:https://www.greateducation.org/wp-content/uploads/2025/07/GEC-AMPE-Web-Banners.png
END:VEVENT
BEGIN:VEVENT
DTSTART;TZID=America/Denver:20250721T080000
DTEND;TZID=America/Denver:20250721T170000
DTSTAMP:20260419T193549
CREATED:20250721T180513Z
LAST-MODIFIED:20250723T015509Z
UID:10000013-1753084800-1753117200@www.greateducation.org
SUMMARY:ESWN Summit
DESCRIPTION:
URL:https://www.greateducation.org/event/eswn-summit/
LOCATION:SpringHill Suites Denver Downtown\, 1190 Auraria Parkway /\, Denver\, CO\, 80204\, United States
CATEGORIES:Conference
ATTACH;FMTTYPE=image/png:https://www.greateducation.org/wp-content/uploads/2025/07/GEC-ESWN-Save-the-Date-IG-size-1.png
END:VEVENT
BEGIN:VEVENT
DTSTART;TZID=America/Denver:20250416T080000
DTEND;TZID=America/Denver:20250416T150000
DTSTAMP:20260419T193549
CREATED:20250327T174322Z
LAST-MODIFIED:20250328T165622Z
UID:10000012-1744790400-1744815600@www.greateducation.org
SUMMARY:Get it Done! Advocacy Day
DESCRIPTION:🎉Get it Done! Advocacy Day is coming! 🏛️✨ \n📅 A full day of learning\, action & impact at the Colorado State Capitol! \n💬 Meet with legislators\, speak up for public education\, and sharpen your advocacy skills. \n🍳 Free breakfast and lunch\, good convos\, and a Capitol photo op? Yes please. \n🚀 Whether you’re new to advocacy or a pro\, this is your moment to #GetItDone for our schools!
URL:https://www.greateducation.org/event/get-it-done-advocacy-day/
LOCATION:First Baptist Church of Denver\, 1373 N Grant Street\, Denver\, CO\, 80203\, United States
CATEGORIES:Advocacy Day
ATTACH;FMTTYPE=image/png:https://www.greateducation.org/wp-content/uploads/2025/03/Advocacy_SaveTheDate-1.png
END:VEVENT
BEGIN:VEVENT
DTSTART;TZID=America/Denver:20240924T110000
DTEND;TZID=America/Denver:20240924T140000
DTSTAMP:20260419T193549
CREATED:20240306T211651Z
LAST-MODIFIED:20240306T211734Z
UID:10000010-1727175600-1727186400@www.greateducation.org
SUMMARY:13th Annual Great Education Colorado Luncheon
DESCRIPTION:
URL:https://www.greateducation.org/event/13th-annual-great-education-colorado-luncheon/
LOCATION:Denver Botanic Gardens\, 1007 York St\, Denver\, CO\, 80206\, United States
END:VEVENT
END:VCALENDAR