BEGIN:VCALENDAR
VERSION:2.0
PRODID:-//Great Education Colorado - ECPv6.15.20//NONSGML v1.0//EN
CALSCALE:GREGORIAN
METHOD:PUBLISH
X-ORIGINAL-URL:https://www.greateducation.org
X-WR-CALDESC:Events for Great Education Colorado
REFRESH-INTERVAL;VALUE=DURATION:PT1H
X-Robots-Tag:noindex
X-PUBLISHED-TTL:PT1H
BEGIN:VTIMEZONE
TZID:America/Denver
BEGIN:DAYLIGHT
TZOFFSETFROM:-0700
TZOFFSETTO:-0600
TZNAME:MDT
DTSTART:20250309T090000
END:DAYLIGHT
BEGIN:STANDARD
TZOFFSETFROM:-0600
TZOFFSETTO:-0700
TZNAME:MST
DTSTART:20251102T080000
END:STANDARD
BEGIN:DAYLIGHT
TZOFFSETFROM:-0700
TZOFFSETTO:-0600
TZNAME:MDT
DTSTART:20260308T090000
END:DAYLIGHT
BEGIN:STANDARD
TZOFFSETFROM:-0600
TZOFFSETTO:-0700
TZNAME:MST
DTSTART:20261101T080000
END:STANDARD
BEGIN:DAYLIGHT
TZOFFSETFROM:-0700
TZOFFSETTO:-0600
TZNAME:MDT
DTSTART:20270314T090000
END:DAYLIGHT
BEGIN:STANDARD
TZOFFSETFROM:-0600
TZOFFSETTO:-0700
TZNAME:MST
DTSTART:20271107T080000
END:STANDARD
END:VTIMEZONE
BEGIN:VEVENT
DTSTART;TZID=America/Denver:20260310T130000
DTEND;TZID=America/Denver:20260310T140000
DTSTAMP:20260420T021000
CREATED:20260217T153813Z
LAST-MODIFIED:20260217T153823Z
UID:10000022-1773147600-1773151200@www.greateducation.org
SUMMARY:Every Student Welcome Network Office Hours
DESCRIPTION:Virtual Every Student Welcome Network website support office hours \nLearn more about ESWN and how to use our online resource hub
URL:https://www.greateducation.org/event/every-student-welcome-network/2026-03-10/
CATEGORIES:ESWN
ATTACH;FMTTYPE=image/png:https://www.greateducation.org/wp-content/uploads/2026/02/Screenshot-2026-02-17-at-7.36.36-AM.png
LOCATION:https://us02web.zoom.us/j/86055363497?pwd=IuhhRajFoXLXjGIcbNaeQ0gsYYH4BQ.1
END:VEVENT
BEGIN:VEVENT
DTSTART;TZID=America/Denver:20260310T163000
DTEND;TZID=America/Denver:20260310T173000
DTSTAMP:20260420T021000
CREATED:20260217T155143Z
LAST-MODIFIED:20260217T155225Z
UID:10000134-1773160200-1773163800@www.greateducation.org
SUMMARY:Advocates Network Virtual Monthly Meeting
DESCRIPTION:Great Education Colorado’s Advocates Network meets every second Tuesday of the month at 4:30pm to hear from you and share opportunities where you can take action as an advocate for adequate and equitable funding for Colorado’s K12 public schools!\nIn each meeting\, we listen to different perspectives\, learn about current issues in school funding\, and activate our leadership by taking action together. \nThis is Great Education Colorado’s community where aspiring change makers become action ambassadors for public education. Through the Advocates Network\, Great Ed is preparing people to become confident education advocates. Where you can take action as an advocate for adequate and equitable funding for Colorado’s K12 public schools. Each month Great Ed’s Advocates Network community comes together to hear updates about public education and learn about opportunities to plug into education advocacy.
URL:https://www.greateducation.org/event/advocates-network-virtual-monthly-meeting/2026-03-10/
CATEGORIES:Advocates Network
ATTACH;FMTTYPE=image/png:https://www.greateducation.org/wp-content/uploads/2026/02/Advocates-Network-Logo.png
END:VEVENT
END:VCALENDAR